BEGIN:VCALENDAR
VERSION:2.0
PRODID:icalendar-ruby
CALSCALE:GREGORIAN
METHOD:PUBLISH
BEGIN:VEVENT
DTSTAMP:20260426T035758Z
UID:155-3134594@checfaithchapel.org
DTSTART:20261105T000000Z
DTEND:20261105T020000Z
CLASS:PUBLIC
CREATED:20260425T192720
DESCRIPTION:
LAST-MODIFIED:20260425T192720
LOCATION:
SUMMARY:Midweek Service 
URL;VALUE=URI:https://www.checfaithchapel.org/events/midweek-service--155/2
 026-11-04
ATTACH;FILENAME=Blue and White Edgy Musician Collection YouTube Thumbnail (
 1).png;FMTTYPE=image/png:https://dq5pwpg1q8ru0.cloudfront.net/2023/03/12/1
 5/30/59/b6e08f86-cdf5-46e5-a860-dbc5a7c22a55/Blue%20and%20White%20Edgy%20M
 usician%20Collection%20YouTube%20Thumbnail%20(1).png
END:VEVENT
END:VCALENDAR
